BEGIN:VCALENDAR
VERSION:2.0
PRODID:-//TYPO3/NONSGML Calendarize//EN


BEGIN:VEVENT
UID:calendarize-vulkanisms-celoni-izplatibas-likumsakaribas-rekordi-ietekme-uz-klimatu-latvijas-senie-vulkani
DTSTAMP:20260305T200202Z

DTSTART:20260317T143000Z
DTEND:20260317T160000Z
    
SUMMARY:Atvērtā lekcija: Vulkānisms: cēloņi\, izplatības likumsakarības\, rekordi\, ietekme uz klimatu\, Latvijas senie vulkāni
DESCRIPTION:MSP "Ģeoloģija"Otrdiena\, 17. marts\, 16.30–18.00Tēma: Vulkānisms: cēloņi\, izplatības likumsakarības\, rekordi\, ietekme uz klimatu\, Latvijas senie vulkāniLektors: asoc. prof. Ģirts StinkulisVieta: LU Dabas māja\, Jelgavas iela 1\, 223. auditorijaLekcija notiek studiju kursa “Zemes dinamiskās sistēmas” ietvaros.\n\nREĢISTRĒJIES LEKCIJAI
X-ALT-DESC;FMTTYPE=text/html:<p><a href="https://www.lu.lv/studijas/studiju-programmas/magistra-limena-studijas/geologija/" target="_blank"><strong>MSP "Ģeoloģija"</strong></a><br /><strong>Otrdiena\, 17. marts\, 16.30–18.00</strong><br />Tēma: <strong>Vulkānisms: cēloņi\, izplatības likumsakarības\, rekordi\, ietekme uz klimatu\, Latvijas senie vulkāni</strong><br />Lektors: asoc. prof. <strong>Ģirts Stinkulis</strong><br />Vieta: LU Dabas māja\, Jelgavas iela 1\, 223. auditorija<br />Lekcija notiek studiju kursa <a href="https://www.lu.lv/studijas/studiju-celvedis/programmu-un-kursu-katalogi/kursu-katalogs/?tx_lustudycatalogue_pi1%5Baction%5D=detail&amp\;tx_lustudycatalogue_pi1%5Bcontroller%5D=Course&amp\;tx_lustudycatalogue_pi1%5Bcourse%5D=GeolM002&amp\;cHash=37a19c2c74fafb1788550888cd0a4a84" target="_blank">“Zemes dinamiskās sistēmas”</a> ietvaros.</p>\n<hr />\n<p><a href="https://forms.office.com/pages/responsepage.aspx?id=RE6EJpfSaECjKUUc6GIx8SDoiE7CMVZLihjv6MH77GRUREZHOTZEMkRNUk8xV1ZKMzhBUURZREkyUi4u&amp\;route=shorturl" target="_blank" rel="noreferrer"><strong>REĢISTRĒJIES LEKCIJAI</strong></a></p>
LOCATION:LU Dabas māja\, Jelgavas iela 1\, 223. auditorija
END:VEVENT

END:VCALENDAR