BEGIN:VCALENDAR
VERSION:2.0
PRODID:-//TYPO3/NONSGML Calendarize//EN


BEGIN:VEVENT
UID:calendarize-the-european-researchers-night
DTSTAMP:20250922T104135Z

DTSTART:20250926T140000Z
DTEND:20250926T190000Z
    
SUMMARY:The European Researchers' Night
DESCRIPTION:
X-ALT-DESC;FMTTYPE=text/html:
LOCATION:
END:VEVENT

END:VCALENDAR