BEGIN:VCALENDAR
VERSION:2.0
PRODID:-//TYPO3/NONSGML Calendarize//EN


BEGIN:VEVENT
UID:calendarize-sekcija-matematika-statistika-un-datu-zinatne-un-to-starpnozaru-pielietojumi
DTSTAMP:20260413T125603Z

DTSTART:20260416T060000Z
DTEND:20260416T093000Z
    
SUMMARY:Sekcija "Matemātika\, statistika un datu zinātne un to starpnozaru pielietojumi"
DESCRIPTION:Sekcija aptver plašu tematu loku — no matemātiskās teorijas un statistiskās metodoloģijas līdz perspektīviem pētījumiem mašīnmācīšanās un datu virzītu pieeju jomā\, īpašu uzsvaru liekot uz to pielietojumu dažādās nozarēs\, piemēram\, tehnoloģijās\, sociālajās zinātnēs un veselības aprūpē. Sekcija kalpo kā forums fundamentālu rezultātu prezentēšanai līdztekus praktiskiem pētījumiem\, veicinot starpdisciplināru ideju apmaiņu un sadarbību.\nDarba valoda: AngļuFormāts: klātieneStenda referāti: Jā\nhttps://conferences.lu.lv/event/835/ 
X-ALT-DESC;FMTTYPE=text/html:<p>Sekcija aptver plašu tematu loku — no matemātiskās teorijas un statistiskās metodoloģijas līdz perspektīviem pētījumiem mašīnmācīšanās un datu virzītu pieeju jomā\, īpašu uzsvaru liekot uz to pielietojumu dažādās nozarēs\, piemēram\, tehnoloģijās\, sociālajās zinātnēs un veselības aprūpē.&nbsp\;Sekcija kalpo kā forums fundamentālu rezultātu prezentēšanai līdztekus praktiskiem pētījumiem\, veicinot starpdisciplināru ideju apmaiņu un sadarbību.</p>\n<p><strong>Darba valoda:</strong> Angļu<br /><strong>Formāts</strong>: klātiene<br /><strong>Stenda referāti</strong>: Jā</p>\n<p><a href="https://conferences.lu.lv/event/835/">https://conferences.lu.lv/event/835/</a>&nbsp\;</p>
LOCATION:LU Zinātņu māja\, 106. auditorija
END:VEVENT

END:VCALENDAR