BEGIN:VCALENDAR
VERSION:2.0
PRODID:-//TYPO3/NONSGML Calendarize//EN


BEGIN:VEVENT
UID:calendarize-sekcija-latvijas-iedzivotaji-un-telpiska-attistiba-arejo-un-ieksejo-izaicinajumu-laikmeta
DTSTAMP:20260413T124021Z

DTSTART:20260414T080000Z
DTEND:20260414T133000Z
    
SUMMARY:Sekcija "Latvijas iedzīvotāji un telpiskā attīstība ārējo un iekšējo izaicinājumu laikmetā"
DESCRIPTION:Stratēģija uzsver nepieciešamību veidot līdzsvarotu un policentrisku telpisko struktūru\, kas ir būtisks priekšnoteikums gan nacionālajai drošībai\, gan iedzīvotāju labklājībai. Konferences apakšsekcijā tiks aplūkotas vairākas tēmas: (1) Rīgas metropoles konkurentspēja un atbildība līdzsvarotai reģionu attīstībai demogrāfiskās un sociāli ekonomiskās sarukšanas apstākļos\; (2) Latvijas drošības teritoriālā organizācija stratēģisko infrastruktūras objektu tīklā\; (3) demogrāfiskā un sociāli ekonomiskā kapitāla stiprināšana teritoriālo kopienu un diferencētā apdzīvoto vietu sistēmā.\nFormāts: klātiene \nDarba valoda: latviešu/angļu\nStenda referāti: jā \nhttps://conferences.lu.lv/event/876/ 
X-ALT-DESC;FMTTYPE=text/html:<p>Stratēģija uzsver nepieciešamību veidot līdzsvarotu un policentrisku telpisko struktūru\, kas ir būtisks priekšnoteikums gan nacionālajai drošībai\, gan iedzīvotāju labklājībai. Konferences apakšsekcijā tiks aplūkotas vairākas tēmas: (1) Rīgas metropoles konkurentspēja un atbildība līdzsvarotai reģionu attīstībai demogrāfiskās un sociāli ekonomiskās sarukšanas apstākļos\; (2) Latvijas drošības teritoriālā organizācija stratēģisko infrastruktūras objektu tīklā\; (3) demogrāfiskā un sociāli ekonomiskā kapitāla stiprināšana teritoriālo kopienu un diferencētā apdzīvoto vietu sistēmā.</p>\n<p><strong>Formāts:</strong> klātiene&nbsp\;</p>\n<p><strong>Darba valoda: </strong>latviešu/angļu</p>\n<p><strong>Stenda referāti:</strong> jā&nbsp\;</p>\n<p><a href="https://conferences.lu.lv/event/876/">https://conferences.lu.lv/event/876/</a>&nbsp\;</p>
LOCATION:LU Zinātņu māja\, 207. auditorija
END:VEVENT

END:VCALENDAR