BEGIN:VCALENDAR
VERSION:2.0
PRODID:-//TYPO3/NONSGML Calendarize//EN


BEGIN:VEVENT
UID:calendarize-sekcija-kvantu-zinatne-un-tehnologijas
DTSTAMP:20260413T124756Z

DTSTART:20260415T060000Z
DTEND:20260415T113000Z
    
SUMMARY:Sekcija "Kvantu zinātne un tehnoloģijas"
DESCRIPTION:Tajā tiks aplūkoti kvantu skaitļošanas\, kvantu komunikācijas\, kvantu sensoru un kvantu materiālu risinājumi\, kā arī to potenciālā ietekme uz informācijas apstrādi\, drošību\, medicīnu un industriju. Sekcija pulcē pētniekus\, inženierus un inovatorus\, veicinot zināšanu apmaiņu starp fundamentālo zinātni un tehnoloģisko attīstību. Īpaša uzmanība tiks pievērsta starpdisciplinārai sadarbībai\, nākotnes lietojumiem un kvantu tehnoloģiju lomai globālo izaicinājumu risināšanā.\nDarba valoda: AngļuStenda referāti: Jā\nhttps://conferences.lu.lv/event/833/ 
X-ALT-DESC;FMTTYPE=text/html:<p>Tajā tiks aplūkoti kvantu skaitļošanas\, kvantu komunikācijas\, kvantu sensoru un kvantu materiālu risinājumi\, kā arī to potenciālā ietekme uz informācijas apstrādi\, drošību\, medicīnu un industriju. Sekcija pulcē pētniekus\, inženierus un inovatorus\, veicinot zināšanu apmaiņu starp fundamentālo zinātni un tehnoloģisko attīstību. Īpaša uzmanība tiks pievērsta starpdisciplinārai sadarbībai\, nākotnes lietojumiem un kvantu tehnoloģiju lomai globālo izaicinājumu risināšanā.</p>\n<p><strong>Darba valoda:</strong> Angļu<br /><strong>Stenda referāti:</strong> Jā</p>\n<p><a href="https://conferences.lu.lv/event/833/">https://conferences.lu.lv/event/833/</a>&nbsp\;</p>
LOCATION:LU Zinātņu māja\, 501. auditorija
END:VEVENT

END:VCALENDAR