BEGIN:VCALENDAR
VERSION:2.0
PRODID:-//TYPO3/NONSGML Calendarize//EN


BEGIN:VEVENT
UID:calendarize-sekcija-kognitivas-sistemas-un-tehnologijas
DTSTAMP:20260413T124614Z

DTSTART:20260415T080000Z
DTEND:20260415T113000Z
    
SUMMARY:Sekcija "Kognitīvās sistēmas un tehnoloģijas"
DESCRIPTION:Sekcijā aicināti ziņojumi par eksperimentālu un korelatīvu pētījumu rezultātiem\, akcentējot gan teorētiskos ietvarus un modeļus\, gan arī lietišķus pētījumus un risinājumus. Papildus uztveres un kognitīvo sistēmu pētniecības pamatvirzieniem\, šogad aicināti pētījumi par lietotājcentrētu un adaptīvu tehnoloģiju jautājumiem\, kā arī lietotāja uztveres un kognitīvo procesu adaptācijas un hibridizācijas izpēti. Arī medicīnas\, sporta\, izglītības un sporta kognitīvo sistēmu izpēte ir centrāla tēma sekcijas saturā.\nDarba valoda: AngļuFormāts: klātieneStenda referāti: Jā\nhttps://conferences.lu.lv/event/834/ 
X-ALT-DESC;FMTTYPE=text/html:<p>Sekcijā aicināti ziņojumi par eksperimentālu un korelatīvu pētījumu rezultātiem\, akcentējot gan teorētiskos ietvarus un modeļus\, gan arī lietišķus pētījumus un risinājumus. Papildus uztveres un kognitīvo sistēmu pētniecības pamatvirzieniem\, šogad aicināti pētījumi par lietotājcentrētu un adaptīvu tehnoloģiju jautājumiem\, kā arī lietotāja uztveres un kognitīvo procesu adaptācijas un hibridizācijas izpēti. Arī medicīnas\, sporta\, izglītības un sporta kognitīvo sistēmu izpēte ir centrāla tēma sekcijas saturā.</p>\n<p><strong>Darba valoda:</strong> Angļu<br /><strong>Formāts:</strong> klātiene<br /><strong>Stenda referāti:</strong> Jā</p>\n<p><a href="https://conferences.lu.lv/event/834/">https://conferences.lu.lv/event/834/</a>&nbsp\;</p>
LOCATION:LU Zinātņu māja\, 202. auditorija
END:VEVENT

END:VCALENDAR