BEGIN:VCALENDAR
VERSION:2.0
PRODID:-//TYPO3/NONSGML Calendarize//EN


BEGIN:VEVENT
UID:calendarize-sekcija-klimata-parmainas-un-vides-ilgtspeja-dazadas-nozares-un-disciplinas
DTSTAMP:20260413T150714Z

DTSTART:20260416T060000Z
DTEND:20260416T113000Z
    
SUMMARY:Sekcija "Klimata pārmaiņas un vides ilgtspēja dažādās nozarēs un disciplīnās "
DESCRIPTION:Dalībniekiem būs iespēja iesaistīties profesionālās diskusijās\, gūt starptautisku pieredzi un veidot zinātniskus kontaktus mutisko un stenda referātu sesijās\, plenārsēdēs un paneļdiskusijās. Aicinām pētniekus\, jaunos zinātniekus un praktiķus piedalīties ar referātiem\, veicinot zināšanu attīstību\, sadarbību un pierādījumos balstītu rīcību ilgtspējīgas un klimatnoturīgas nākotnes veidošanā.Formāts: klātiene/ attālinātiDarba valoda: angļuStenda referāti: jāIesniegtās tēzes var tikt novirzītas uz stenda referātu sadaļu\, saistībā ar ierobežotu mutisko prezentāciju laiku.\nhttps://conferences.lu.lv/event/866/ 
X-ALT-DESC;FMTTYPE=text/html:<p class="text-justify">Dalībniekiem būs iespēja iesaistīties profesionālās diskusijās\, gūt starptautisku pieredzi un veidot zinātniskus kontaktus mutisko un stenda referātu sesijās\, plenārsēdēs un paneļdiskusijās. Aicinām pētniekus\, jaunos zinātniekus un praktiķus piedalīties ar referātiem\, veicinot zināšanu attīstību\, sadarbību un pierādījumos balstītu rīcību ilgtspējīgas un klimatnoturīgas nākotnes veidošanā.<br /><br /><strong>Formāts</strong>: klātiene/ attālināti<br /><strong>Darba valoda</strong>: angļu<br /><strong>Stenda referāti</strong>: jā<br /><br />Iesniegtās tēzes var tikt novirzītas uz stenda referātu sadaļu\, saistībā ar ierobežotu mutisko prezentāciju laiku.</p>\n<p class="text-justify"><a href="https://conferences.lu.lv/event/866/">https://conferences.lu.lv/event/866/</a>&nbsp\;</p>
LOCATION:LU Zinātņu māja\, 105. auditorija
END:VEVENT

END:VCALENDAR