BEGIN:VCALENDAR
VERSION:2.0
PRODID:-//TYPO3/NONSGML Calendarize//EN


BEGIN:VEVENT
UID:calendarize-sekcija-jaunakie-sasniegumi-datorzinatnes-it-un-to-pielietojums
DTSTAMP:20260413T125342Z

DTSTART:20260416T060000Z
DTEND:20260416T113000Z
    
SUMMARY:Sekcija "Jaunākie sasniegumi datorzinātnēs\, IT\, un to pielietojums"
DESCRIPTION:Tajā tiks aplūkotas tādas tēmas kā datu analītika\, programmatūras inženierija\, kiberdrošība\, augstas veiktspējas skaitļošana un digitālo sistēmu pielietojumi dažādās nozarēs. Sekcija veicina zināšanu apmaiņu starp akadēmisko vidi un industriju\, akcentējot teorijas un prakses mijiedarbību. Īpaša uzmanība tiks pievērsta inovatīviem risinājumiem\, ilgtspējīgai digitālajai attīstībai un IT nozīmei sabiedrības un ekonomikas transformācijā.\nDarba valoda: AngļuFormāts: klātieneStenda referāti: Jā\nhttps://conferences.lu.lv/event/857/ 
X-ALT-DESC;FMTTYPE=text/html:<p>Tajā tiks aplūkotas tādas tēmas kā datu analītika\, programmatūras inženierija\, kiberdrošība\, augstas veiktspējas skaitļošana un digitālo sistēmu pielietojumi dažādās nozarēs. Sekcija veicina zināšanu apmaiņu starp akadēmisko vidi un industriju\, akcentējot teorijas un prakses mijiedarbību. Īpaša uzmanība tiks pievērsta inovatīviem risinājumiem\, ilgtspējīgai digitālajai attīstībai un IT nozīmei sabiedrības un ekonomikas transformācijā.</p>\n<p><strong>Darba valoda: </strong>Angļu<br /><strong>Formāts</strong>: klātiene<br /><strong>Stenda referāti:</strong> Jā</p>\n<p><a href="https://conferences.lu.lv/event/857/">https://conferences.lu.lv/event/857/</a>&nbsp\;</p>
LOCATION:LU Zinātņu māja\, 207. auditorija
END:VEVENT

END:VCALENDAR