BEGIN:VCALENDAR
VERSION:2.0
PRODID:-//TYPO3/NONSGML Calendarize//EN


BEGIN:VEVENT
UID:calendarize-sekcija-geoinformatika-gis-un-talizpete
DTSTAMP:20260413T123710Z

DTSTART:20260414T120000Z
DTEND:20260414T153000Z
    
SUMMARY:Sekcija "Ģeoinformātika: ĢIS un tālizpēte"
DESCRIPTION:Sekcijā akcentēta satelītdatu un atvērto ģeotelpisko datu izmantošana vides monitoringā un resursu plānošanā\, kā arī metodoloģiski jautājumi\, kas saistīti ar pētījumu atkārtojamību un nozares attīstības pamatojumu. Kopumā sekcija sniedz koncentrētu ieskatu ģeoinformātikas un tālizpētes aktuālajos virzienos un to praktiskajā nozīmē.\nDarba valoda: AngļuFormāts: HibrīdaStenda referāti: Jā\nAttālinātās pieslēgšanās saite: https://bbb.lu.lv/mar-1xr-tqq-nyn\nhttps://conferences.lu.lv/event/838/ 
X-ALT-DESC;FMTTYPE=text/html:<p>Sekcijā akcentēta satelītdatu un atvērto ģeotelpisko datu izmantošana vides monitoringā un resursu plānošanā\, kā arī metodoloģiski jautājumi\, kas saistīti ar pētījumu atkārtojamību un nozares attīstības pamatojumu. Kopumā sekcija sniedz koncentrētu ieskatu ģeoinformātikas un tālizpētes aktuālajos virzienos un to praktiskajā nozīmē.</p>\n<p><strong>Darba valoda: </strong>Angļu<br /><strong>Formāts:</strong> Hibrīda<br /><strong>Stenda referāti: </strong>Jā</p>\n<p><strong>Attālinātās pieslēgšanās saite:</strong> <a href="https://bbb.lu.lv/mar-1xr-tqq-nyn">https://bbb.lu.lv/mar-1xr-tqq-nyn</a></p>\n<p><a href="https://conferences.lu.lv/event/838/">https://conferences.lu.lv/event/838/</a>&nbsp\;</p>
LOCATION:LU Zinātņu māja\, 110. auditorija ALFA
END:VEVENT

END:VCALENDAR