BEGIN:VCALENDAR
VERSION:2.0
PRODID:-//TYPO3/NONSGML Calendarize//EN


BEGIN:VEVENT
UID:calendarize-sekcija-geodinamika-un-geokosmiskie-petijumi
DTSTAMP:20260413T124309Z

DTSTART:20260415T060000Z
DTEND:20260415T153000Z
    
SUMMARY:Sekcija "Ģeodinamika un ģeokosmiskie pētījumi"
DESCRIPTION:Sekcija apvieno teorētiskus un lietišķus pētījumus\, veicinot starpdisciplināru sadarbību starp ģeofiziku\, ģeoloģiju\, ģeodēziju un kosmosa zinātnēm. Īpaša uzmanība tiks pievērsta dabas risku novērtēšanai\, Zemes procesu monitorēšanai un ilgtspējīgai vides izpētei globālā kontekstā.\nDarba valoda: AngļuFormāts: HibrīdaStenda referāti: Jā
X-ALT-DESC;FMTTYPE=text/html:<p>Sekcija apvieno teorētiskus un lietišķus pētījumus\, veicinot starpdisciplināru sadarbību starp ģeofiziku\, ģeoloģiju\, ģeodēziju un kosmosa zinātnēm. Īpaša uzmanība tiks pievērsta dabas risku novērtēšanai\, Zemes procesu monitorēšanai un ilgtspējīgai vides izpētei globālā kontekstā.</p>\n<p><strong>Darba valoda:</strong> Angļu<br /><strong>Formāts</strong>: Hibrīda<br /><strong>Stenda referāti: </strong>Jā</p>
LOCATION:Zinātņu māja\, 301. auditorija
END:VEVENT

END:VCALENDAR