BEGIN:VCALENDAR
VERSION:2.0
PRODID:-//TYPO3/NONSGML Calendarize//EN


BEGIN:VEVENT
UID:calendarize-pasakums-aizejam-uz-kafiju-soreiz-ar-eztf-vadibu
DTSTAMP:20251006T093600Z

DTSTART:20251015T110000Z
DTEND:20251015T120000Z
    
SUMMARY:ATCELTS pasākums “Aizejam uz kafiju? Šoreiz ar EZTF vadību”
DESCRIPTION:Sarunājoties par darbu un dzīvi\, mērķtiecību un sasniegumiem\, kā arī par to\, kur ikdienas straujajā ritējumā smelties iedvesmu un enerģiju\, uzzināsim vairāk par personībām\, kuras veido EZTF vadību. \nPasākumu apmeklēt aicināti visi LU EZTF darbinieki un studenti!\n\n
X-ALT-DESC;FMTTYPE=text/html:<p>Sarunājoties par darbu un dzīvi\, mērķtiecību un sasniegumiem\, kā arī par to\, kur ikdienas straujajā ritējumā smelties iedvesmu un enerģiju\, uzzināsim vairāk par personībām\, kuras veido EZTF vadību.&nbsp\;</p>\n<p>Pasākumu apmeklēt aicināti visi LU EZTF darbinieki un studenti!</p>\n\n
LOCATION:LU Zinātņu māja\, 2. stāvs\, ātrijs
END:VEVENT

END:VCALENDAR