BEGIN:VCALENDAR
VERSION:2.0
PRODID:-//TYPO3/NONSGML Calendarize//EN


BEGIN:VEVENT
UID:calendarize-mans-fotonu-kugis-kvantu-darbnica-vidusskoleniem
DTSTAMP:20250922T132136Z

DTSTART;VALUE=DATE:20251004
DTEND;VALUE=DATE:20251005
    
SUMMARY:Mans Fotonu Kuģis: Kvantu darbnīca vidusskolēniem
DESCRIPTION:Dalībnieku skaits ir ierobežots līdz 20 skolēniem\, un ir nepieciešamas pamatprasmes Python programmēšanā. Iepriekšējas zināšanas kvantu skaitļošanā nav vajadzīgas. Pirms darbnīcas dalībniekiem tiks dots neliels sagatavošanās uzdevums\, un tā veiksmīga izpilde būs obligāta\, lai piedalītos.\nReģistrācija atvērta līdz 2025. gada 1. oktobrim (pēc pieteikšanās secības).\nSagatavošanās tiešsaistes jautājumu un atbilžu sesija notiks 2025. gada 2. oktobrī plkst. 19.00 reģistrētajiem dalībniekiem.\nVairāk informācijas un reģistrācija: https://forms.gle/yjYSeGn9QNG5bWSQ9\nŠī darbnīca ir daļa no 2025. gada Starptautiskā Kvantu zinātnes un tehnoloģiju gada svinībām.
X-ALT-DESC;FMTTYPE=text/html:<p>Dalībnieku skaits ir ierobežots līdz <strong>20 skolēniem</strong>\, un ir <strong>nepieciešamas pamatprasmes Python programmēšanā</strong>. Iepriekšējas zināšanas kvantu skaitļošanā nav vajadzīgas. Pirms darbnīcas dalībniekiem tiks dots neliels sagatavošanās uzdevums\, un tā veiksmīga izpilde būs obligāta\, lai piedalītos.</p>\n<p>Reģistrācija atvērta līdz <strong>2025. gada 1. oktobrim</strong> (pēc pieteikšanās secības).</p>\n<p>Sagatavošanās tiešsaistes jautājumu un atbilžu sesija notiks <strong>2025. gada 2. oktobrī plkst. 19.00 </strong>reģistrētajiem dalībniekiem.</p>\n<p>Vairāk informācijas un reģistrācija: <a href="https://forms.gle/yjYSeGn9QNG5bWSQ9">https://forms.gle/yjYSeGn9QNG5bWSQ9</a></p>\n<p>Šī darbnīca ir daļa no <a href="https://quantum2025.org/">2025. gada Starptautiskā Kvantu zinātnes un tehnoloģiju gada svinībām.</a></p>
LOCATION:LU\, Raiņa bulvāris 19
END:VEVENT

END:VCALENDAR