BEGIN:VCALENDAR
VERSION:2.0
PRODID:-//TYPO3/NONSGML Calendarize//EN


BEGIN:VEVENT
UID:calendarize-lu-karjeras-centra-seminars-starpnozaru-prasmes-kuras-jaattista-ikvienam
DTSTAMP:20260203T105817Z

DTSTART:20260310T153000Z
DTEND:20260310T173000Z
    
SUMMARY:LU Karjeras centra seminārs "Starpnozaru prasmes\, kuras jāattīsta ikvienam"
DESCRIPTION:
X-ALT-DESC;FMTTYPE=text/html:
LOCATION:Aspazijas bulvāris 5\, 508. auditorija.
END:VEVENT

END:VCALENDAR