BEGIN:VCALENDAR
VERSION:2.0
PRODID:-//TYPO3/NONSGML Calendarize//EN


BEGIN:VEVENT
UID:calendarize-lu-karjeras-centra-seminars-radosums-ta-nozime-karjeras-veidosana-1
DTSTAMP:20260203T124035Z

DTSTART:20260520T131500Z
DTEND:20260520T145500Z
    
SUMMARY:LU Karjeras centra seminārs “Radošums. Tā nozīme karjeras veidošanā.
DESCRIPTION:Vairāk informācijas par semināriem un pieteikšanos www.karjera.lu.lv sadaļā “Semināri un lekcijas”
X-ALT-DESC;FMTTYPE=text/html:<p>Vairāk informācijas par semināriem un pieteikšanos www.karjera.lu.lv sadaļā “Semināri un lekcijas”</p>
LOCATION:Aspazijas bulvāris 5\, 508. auditorija.
END:VEVENT

END:VCALENDAR