BEGIN:VCALENDAR
VERSION:2.0
PRODID:-//TYPO3/NONSGML Calendarize//EN


BEGIN:VEVENT
UID:calendarize-lu-karjeras-centra-seminars-prezentesanas-prasmes-1
DTSTAMP:20260203T123922Z

DTSTART:20260519T153000Z
DTEND:20260519T173000Z
    
SUMMARY:LU Karjeras centra seminārs “Prezentēšanas prasmes”
DESCRIPTION:
X-ALT-DESC;FMTTYPE=text/html:
LOCATION:Tiešsaistē
END:VEVENT

END:VCALENDAR