BEGIN:VCALENDAR
VERSION:2.0
PRODID:-//TYPO3/NONSGML Calendarize//EN


BEGIN:VEVENT
UID:calendarize-lu-karjeras-centra-seminars-macisanas-prasmes-1
DTSTAMP:20260203T105938Z

DTSTART:20260311T141500Z
DTEND:20260311T155500Z
    
SUMMARY:LU Karjeras centra seminārs “Mācīšanās prasmes”
DESCRIPTION:
X-ALT-DESC;FMTTYPE=text/html:
LOCATION:Aspazijas bulvāris 5\, 508. auditorija.
END:VEVENT

END:VCALENDAR