BEGIN:VCALENDAR
VERSION:2.0
PRODID:-//TYPO3/NONSGML Calendarize//EN


BEGIN:VEVENT
UID:calendarize-lu-karjeras-centra-seminars-konflikti-to-risinasana
DTSTAMP:20260203T123637Z

DTSTART:20260505T153000Z
DTEND:20260505T173000Z
    
SUMMARY:LU Karjeras centra seminārs "Konflikti. To risināšana."
DESCRIPTION:
X-ALT-DESC;FMTTYPE=text/html:
LOCATION:Tiešsaistē
END:VEVENT

END:VCALENDAR