BEGIN:VCALENDAR
VERSION:2.0
PRODID:-//TYPO3/NONSGML Calendarize//EN


BEGIN:VEVENT
UID:calendarize-lu-karjeras-centra-seminars-cv-darbnica-1
DTSTAMP:20260203T110108Z

DTSTART:20260319T153000Z
DTEND:20260319T173000Z
    
SUMMARY:LU Karjeras centra seminārs "CV darbnīca"
DESCRIPTION:
X-ALT-DESC;FMTTYPE=text/html:
LOCATION:Aspazijas bulvāris 5\, 508. auditorija
END:VEVENT

END:VCALENDAR