BEGIN:VCALENDAR
VERSION:2.0
PRODID:-//TYPO3/NONSGML Calendarize//EN


BEGIN:VEVENT
UID:calendarize-lu-84-starptautiska-zinatniska-konference-6
DTSTAMP:20260413T122253Z

DTSTART;VALUE=DATE:20260414
DTEND;VALUE=DATE:20260417
    
SUMMARY:LU 84. starptautiskā zinātniskā konference
DESCRIPTION:Konferences ietvaros notiks deviņas tematiskās plenārsēdes par LU prioritārajiem pētniecības virzieniem un 52 tematiskajās sekcijās būs iespēja iepazīties ar vairāk nekā 600 zinātniskajiem referātiem un 185 stenda referātiem. Konferencē piedalīsies LU\, citu Latvijas institūciju un ārvalstu pētnieki\, un pasākumus aicināts apmeklēt ikviens interesents.\nAtklāšanas plenārsēde ar prof. Ūemā referātu “No izcilības līdz ietekmei: kā plānot nozīmīgus pētījumus?” notiks klātienē 14. aprīlī plkst. 9.00 LU Zinātņu mājā\, Alfa auditorijā. Tā iezīmēs LU 84. starptautiskās konferences galveno tematisko virzienu – veidot ciešāku saikni starp zinātni un sabiedrību\, uzsverot pētījumu nozīmi mūsdienu problēmu risināšanā.\nVairāk informācijas: https://konference84.lu.lv/registracija-un-programma/programma/ 
X-ALT-DESC;FMTTYPE=text/html:<p>Konferences ietvaros notiks deviņas tematiskās plenārsēdes par LU prioritārajiem pētniecības virzieniem un 52 tematiskajās sekcijās būs iespēja iepazīties ar vairāk nekā 600 zinātniskajiem referātiem un 185 stenda referātiem. Konferencē piedalīsies LU\, citu Latvijas institūciju un ārvalstu pētnieki\, un pasākumus aicināts apmeklēt ikviens interesents.</p>\n<p>Atklāšanas plenārsēde ar prof. Ūemā referātu “No izcilības līdz ietekmei: kā plānot nozīmīgus pētījumus?” notiks klātienē <strong>14. aprīlī plkst. 9.00 LU Zinātņu mājā\, Alfa auditorijā. </strong>Tā iezīmēs LU 84. starptautiskās konferences galveno tematisko virzienu – veidot ciešāku saikni starp zinātni un sabiedrību\, uzsverot pētījumu nozīmi mūsdienu problēmu risināšanā.</p>\n<p>Vairāk informācijas: <a href="https://konference84.lu.lv/registracija-un-programma/programma/">https://konference84.lu.lv/registracija-un-programma/programma/</a>&nbsp\;</p>
LOCATION:
END:VEVENT

END:VCALENDAR