BEGIN:VCALENDAR
VERSION:2.0
PRODID:-//TYPO3/NONSGML Calendarize//EN


BEGIN:VEVENT
UID:calendarize-jauno-fiziku-skolas-2-nodarbiba
DTSTAMP:20250916T113619Z

DTSTART:20251004T070000Z
DTEND:20251003T210000Z
    
SUMMARY:Jauno Fiziķu skolas 2. nodarbība
DESCRIPTION:Jauno Fiziķu skola ir bezmaksas nodarbības vidusskolēniem\, kas norisinās reizi mēnesī Latvijas Universitātes Eksakto zinātņu un tehnoloģiju fakultātē (EZTF).\nVairāk informācijas: https://jfs.lu.lv/ 
X-ALT-DESC;FMTTYPE=text/html:<p>Jauno Fiziķu skola ir bezmaksas nodarbības vidusskolēniem\, kas norisinās reizi mēnesī Latvijas Universitātes Eksakto zinātņu un tehnoloģiju fakultātē (EZTF).</p>\n<p>Vairāk informācijas: <a href="https://jfs.lu.lv/">https://jfs.lu.lv/</a><br />&nbsp\;</p>
LOCATION:LU Zinātņu māja\, Jelgavas iela 3
END:VEVENT

END:VCALENDAR