BEGIN:VCALENDAR
VERSION:2.0
PRODID:-//TYPO3/NONSGML Calendarize//EN


BEGIN:VEVENT
UID:calendarize-fizmatdienas-2026
DTSTAMP:20260420T111207Z

DTSTART:20260426T210000Z
DTEND:20260502T210000Z
    
SUMMARY:Fizmatdienas 2026
DESCRIPTION:Vairāk informācijas: https://www.facebook.com/Fizmatdienas 
X-ALT-DESC;FMTTYPE=text/html:<p>Vairāk informācijas: <a href="https://www.facebook.com/Fizmatdienas">https://www.facebook.com/Fizmatdienas</a>&nbsp\;</p>
LOCATION:
END:VEVENT

END:VCALENDAR