BEGIN:VCALENDAR
VERSION:2.0
PRODID:-//TYPO3/NONSGML Calendarize//EN


BEGIN:VEVENT
UID:calendarize-eztf-domes-sede-22
DTSTAMP:20251008T153916Z

DTSTART:20260507T111500Z
DTEND:20260506T210000Z
    
SUMMARY:EZTF domes sēde
DESCRIPTION:
X-ALT-DESC;FMTTYPE=text/html:
LOCATION:
END:VEVENT

END:VCALENDAR