BEGIN:VCALENDAR
VERSION:2.0
PRODID:-//TYPO3/NONSGML Calendarize//EN


BEGIN:VEVENT
UID:calendarize-dzive-roja-izaicinajumi-un-risinajumi
DTSTAMP:20260414T164856Z

DTSTART:20260422T070000Z
DTEND:20260421T210000Z
    
SUMMARY:Dzīve Rojā: izaicinājumi un risinājumi
DESCRIPTION:Pasākuma laikā:- uzzināsiet par migrācijas un demogrāfijas tendencēm Kurzemē\;- iepazīsieties ar jaunākajiem pētījumu rezultātiem par dzīves kvalitāti un migrācijas pieredzi\;- piedalīsieties diskusijā un kopradē par Rojas attīstību\, izaicinājumiem un iespējamiem risinājumiem.\nŠī ir lieliska iespēja izteikt savu viedokli un kopīgi veidot idejas vietējās attīstības uzlabošanai!\nPieteikšanās saite. \n\nPasākums notiek Re-Place projekta (Reframing Non-Metropolitan Left Behind Places Through Mobility and Alternative Development) ietvaros.
X-ALT-DESC;FMTTYPE=text/html:<p>Pasākuma laikā:<br />- uzzināsiet par migrācijas un demogrāfijas tendencēm Kurzemē\;<br />- iepazīsieties ar jaunākajiem pētījumu rezultātiem par dzīves kvalitāti un migrācijas pieredzi\;<br />- piedalīsieties diskusijā un kopradē par Rojas attīstību\, izaicinājumiem un iespējamiem risinājumiem.</p>\n<p>Šī ir lieliska iespēja izteikt savu viedokli un kopīgi veidot idejas vietējās attīstības uzlabošanai!</p>\n<p><a href="https://docs.google.com/forms/d/e/1FAIpQLSfZ3j6q6yBXYtFnoOQP1mp1y-Pe9399sEVqFX9MuI8xe9nliA/viewform">Pieteikšanās saite.&nbsp\;</a></p>\n<hr />\n<p>Pasākums notiek Re-Place projekta (Reframing Non-Metropolitan Left Behind Places Through Mobility and Alternative Development) ietvaros.</p>
LOCATION:Roja\, "Dream Studio"\, Selgas iela 2 (2.stāvs)
END:VEVENT

END:VCALENDAR