BEGIN:VCALENDAR
VERSION:2.0
PRODID:-//TYPO3/NONSGML Calendarize//EN


BEGIN:VEVENT
UID:calendarize-default-7a7fd567c6dfa00980afba40199112d8
DTSTAMP:20251023T124215Z

DTSTART:20251025T070000Z
DTEND:20251024T210000Z
    
SUMMARY:Ģeologu skolas nodarbība
DESCRIPTION:Nodarbība notiks 25.oktobrī LU Dabas mājas (Jelgavas iela 1\, Rīga) 3. stāva 301. telpā. Sākums plkst. 10.00
X-ALT-DESC;FMTTYPE=text/html:<p>Nodarbība notiks 25.oktobrī LU Dabas mājas (Jelgavas iela 1\, Rīga) 3. stāva 301. telpā. Sākums plkst. 10.00</p>
LOCATION:LU Dabas māja (Jelgavas iela 1\, Rīga)\, 3. stāvs\, 301. telpa
END:VEVENT

END:VCALENDAR