BEGIN:VCALENDAR
VERSION:2.0
PRODID:-//TYPO3/NONSGML Calendarize//EN


BEGIN:VEVENT
UID:calendarize-colours-and-life-in-the-universe
DTSTAMP:20251008T104934Z

DTSTART;VALUE=DATE:20251120
DTEND;VALUE=DATE:20251124
    
SUMMARY:Colours and Life in the Universe
DESCRIPTION:You will learn about the vast information hidden in the spectra of various objects found both in the near neighbourhood – Sun\, Moon\, planets\, asteroids – but also of far away stars and even galaxies. Not only that\, you will conduct your own observations with different telescopes (even with the large Baldone Schmidt telescope)\, learn how to analyse spectroscopic data\, find signatures of potential life\, and work in teams to finish and present a project.\nTo learn more\, visit the site: https://www.erachair.lu.lv/workshop-2025/workshop-2025/
X-ALT-DESC;FMTTYPE=text/html:<p>You will learn about the vast information hidden in the spectra of various objects found both in the near neighbourhood – Sun\, Moon\, planets\, asteroids – but also of far away stars and even galaxies. Not only that\, you will conduct your own observations with different telescopes (even with the large Baldone Schmidt telescope)\, learn how to analyse spectroscopic data\, find signatures of potential life\, and work in teams to finish and present a project.</p>\n<p>To learn more\, visit the site: <a href="https://www.erachair.lu.lv/workshop-2025/workshop-2025/" title="https://www.erachair.lu.lv/workshop-2025/workshop-2025/" target="_blank" rel="noopener noreferrer">https://www.erachair.lu.lv/workshop-2025/workshop-2025/</a></p>
LOCATION:
END:VEVENT

END:VCALENDAR