BEGIN:VCALENDAR
VERSION:2.0
PRODID:-//TYPO3/NONSGML Calendarize//EN


BEGIN:VEVENT
UID:calendarize-cilveka-redzes-fiziologija-un-uztvere
DTSTAMP:20250205T162737Z

DTSTART:20250214T070000Z
DTEND:20250214T130000Z
    
SUMMARY:Cilvēka redzes fizioloģija un uztvere
DESCRIPTION:Vairāk informācijas: https://conferences.lu.lv/event/681/ 
X-ALT-DESC;FMTTYPE=text/html:<p>Vairāk informācijas: <a href="https://conferences.lu.lv/event/681/">https://conferences.lu.lv/event/681/</a>&nbsp\;</p>
LOCATION:LU Dabas māja\, Jelgavas iela 1\, 702. telpa
END:VEVENT

END:VCALENDAR