BEGIN:VCALENDAR
VERSION:2.0
PRODID:-//TYPO3/NONSGML Calendarize//EN


BEGIN:VEVENT
UID:calendarize-baltijas-pamatklintaja-geologijas-tiessaistes-lekcijas
DTSTAMP:20251006T160331Z

DTSTART:20251008T060000Z
DTEND:20251008T110000Z
    
SUMMARY:Baltijas pamatklintāja ģeoloģijas tiešsaistes lekcijas
DESCRIPTION:REĢISTRĀCIJA \nVairāk informācijas: https://eztf.lu.lv/par-mums/zinas/zina/t/105541/ 
X-ALT-DESC;FMTTYPE=text/html:<p><a href="https://docs.google.com/forms/d/1Gh55wkrs9mPrwVT89e-JVr3hPfUxlKlu9c2KfLKL2pY/viewform?edit_requested=true">REĢISTRĀCIJA&nbsp\;</a></p>\n<p>Vairāk informācijas: <a href="https://eztf.lu.lv/par-mums/zinas/zina/t/105541/">https://eztf.lu.lv/par-mums/zinas/zina/t/105541/</a>&nbsp\;</p>
LOCATION:
END:VEVENT

END:VCALENDAR