BEGIN:VCALENDAR
VERSION:2.0
PRODID:-//TYPO3/NONSGML Calendarize//EN


BEGIN:VEVENT
UID:calendarize-atklasanas-akademiska-plenarsede-nakotnes-universitate-ietekme-balstita-lideriba
DTSTAMP:20260413T142535Z

DTSTART:20260414T060000Z
DTEND:20260414T073000Z
    
SUMMARY:Atklāšanas Akadēmiskā plenārsēde: Nākotnes universitāte – ietekmē balstīta līderība
DESCRIPTION:Profesore Ūemā savā zinātniskajā darbā veiksmīgi apvieno inovatīvus pētījumus ar praktisku ietekmi uz sabiedrību un vidi. Viņas sasniegumus apliecina 2023. gadā saņemtais ERC grants un Igaunijas Zinātnes padomes finansētā Ilgtspējīgas zemes lietojuma izcilības centra vadība. \nSavā referātā profesore pievērsīsies jautājumam\, kā apvienot zinātnisko izcilību ar ietekmi\, pārvēršot tās no konkurējošiem mērķiem par savstarpēji stiprinošiem faktoriem\, un rosinās plašāku diskusiju par pētniecības kvalitātes lomu ilgtermiņa attīstībā. \nPlenārsēdes otrajā daļā notiks paneļdiskusija\, kurā pētnieki un rīcībpolitikas veidotāji analizēs\, kā skaidri un iedarbīgi komunicēt zinātnes izcilību dažādām auditorijām – akadēmiskajai videi\, politikas veidotājiem un sabiedrībai kopumā. Īpaša uzmanība tiks pievērsta zinātnieka atbildībai un akadēmisko institūciju lomai\, veidojot sabiedrībai nozīmīgu un ilgtspējīgu pētniecību. 
X-ALT-DESC;FMTTYPE=text/html:<p>Profesore Ūemā savā zinātniskajā darbā veiksmīgi apvieno inovatīvus pētījumus ar praktisku ietekmi uz sabiedrību un vidi. Viņas sasniegumus apliecina 2023. gadā<strong> </strong><a class="Hyperlink SCXW119633316 BCX0" href="https://cordis.europa.eu/project/id/101125476" target="_blank" rel="noreferrer noopener"><strong><u>saņemtais ERC grants</u></strong></a> un Igaunijas Zinātnes padomes finansētā <a class="Hyperlink SCXW119633316 BCX0" href="https://www.etis.ee/CV/Evelyn_Uuemaa/eng/" target="_blank" rel="noreferrer noopener"><strong><u>Ilgtspējīgas zemes lietojuma izcilības centra</u></strong></a> vadība.&nbsp\;</p>\n<p>Savā referātā profesore pievērsīsies jautājumam\, kā apvienot zinātnisko izcilību ar ietekmi\, pārvēršot tās no konkurējošiem mērķiem par savstarpēji stiprinošiem faktoriem\, un rosinās plašāku diskusiju par pētniecības kvalitātes lomu ilgtermiņa attīstībā.&nbsp\;</p>\n<p>Plenārsēdes otrajā daļā notiks paneļdiskusija\, kurā pētnieki un rīcībpolitikas veidotāji analizēs\, kā skaidri un iedarbīgi komunicēt zinātnes izcilību dažādām auditorijām – akadēmiskajai videi\, politikas veidotājiem un sabiedrībai kopumā. Īpaša uzmanība tiks pievērsta zinātnieka atbildībai un akadēmisko institūciju lomai\, veidojot sabiedrībai nozīmīgu un ilgtspējīgu pētniecību.&nbsp\;</p>
LOCATION:LU Zinātņu māja\, 110. auditorija ALFA
END:VEVENT

END:VCALENDAR