BEGIN:VCALENDAR
VERSION:2.0
PRODID:-//TYPO3/NONSGML Calendarize//EN


BEGIN:VEVENT
UID:calendarize-a-guest-lecture-by-phd-russell-king
DTSTAMP:20250922T103916Z

DTSTART:20250926T130000Z
DTEND:20250926T140000Z
    
SUMMARY:A guest lecture by Ph.D. Russell King
DESCRIPTION:
X-ALT-DESC;FMTTYPE=text/html:
LOCATION:
END:VEVENT

END:VCALENDAR