BEGIN:VCALENDAR
VERSION:2.0
PRODID:-//TYPO3/NONSGML Calendarize//EN


BEGIN:VEVENT
UID:calendarize-9-smi-zinatniskais-seminars
DTSTAMP:20251217T114430Z

DTSTART:20251218T110000Z
DTEND:20251218T123000Z
    
SUMMARY:9. SMI Zinātniskais seminārs
DESCRIPTION:Šajā ceturtdienā\, 18. decembrī\, plkst. 13.00–14.30 (GMT+2)\, mums būs īpaša viešņa — Sanda Kronberga\, Rīgas Austrumu klīniskās universitātes slimnīcas\, Klīniskās medicīnas fizikas un dozimetrijas nodaļas medicīnas fiziķe. Viņa stāstīs par to\, kā darbojas mūsdienu staru terapija\, kā arī par progresīvajām metodēm un programmatūru\, kas tiek izmantota ārstēšanas plānošanā. Kā ierasts\, seminārs notiks SMI 520. auditorijā un tiešsaistē\, MS Teams.\nINM Weekly Seminar | Meeting-Join | Microsoft Teams
X-ALT-DESC;FMTTYPE=text/html:<p>Šajā ceturtdienā\, 18. decembrī\, plkst. 13.00–14.30 (GMT+2)\, mums būs īpaša viešņa — Sanda Kronberga\, Rīgas Austrumu klīniskās universitātes slimnīcas\, Klīniskās medicīnas fizikas un dozimetrijas nodaļas medicīnas fiziķe. Viņa stāstīs par to\, kā darbojas mūsdienu staru terapija\, kā arī par progresīvajām metodēm un programmatūru\, kas tiek izmantota ārstēšanas plānošanā. Kā ierasts\, seminārs notiks SMI 520. auditorijā un tiešsaistē\, MS Teams.</p>\n<p><a href="https://www.google.com/url?q=https://teams.microsoft.com/l/meetup-join/19%253ameeting_OTdkNjJkYjktNDEyNS00MWE1LTliZWYtZTVhOGRjZGNhN2Ni%2540thread.v2/0?context%3D%257b%2522Tid%2522%253a%252226844e44-d297-4068-a329-451ce86231f1%2522%252c%2522Oid%2522%253a%25225e4aab21-223d-4ed6-ba23-20af20fd1aaf%2522%257d&amp\;sa=D&amp\;source=calendar&amp\;usd=2&amp\;usg=AOvVaw1ghCS_Bugx2aWGHcmJ9zK5" title="https://www.google.com/url?q=https://teams.microsoft.com/l/meetup-join/19%253ameeting_OTdkNjJkYjktNDEyNS00MWE1LTliZWYtZTVhOGRjZGNhN2Ni%2540thread.v2/0?context%3D%257b%2522Tid%2522%253a%252226844e44-d297-4068-a329-451ce86231f1%2522%252c%2522Oid%2522%253a%25225e4aab21-223d-4ed6-ba23-20af20fd1aaf%2522%257d&amp\;sa=D&amp\;source=calendar&amp\;usd=2&amp\;usg=AOvVaw1ghCS_Bugx2aWGHcmJ9zK5">INM Weekly Seminar | Meeting-Join | Microsoft Teams</a></p>
LOCATION:
END:VEVENT

END:VCALENDAR