BEGIN:VCALENDAR
VERSION:2.0
PRODID:-//TYPO3/NONSGML Calendarize//EN


BEGIN:VEVENT
UID:calendarize-zinasanu-inzenierija
DTSTAMP:20260305T200401Z

DTSTART:20260318T123000Z
DTEND:20260318T160000Z
    
SUMMARY:Atvērtā lekcija: Zināšanu inženierija
DESCRIPTION:MSP "Datorzinātnes"Trešdiena\, 18. marts\, 14.30–18.00Tēma: Zināšanu inženierijaLektori: prof. Kārlis Čerāns\, prof. Uldis StraujumsVieta: Raiņa bulvāris 19\, 3. stāvs\, pa labi\, 12. auditorijaLekcija notiek studiju kursa “Zināšanu inženierija” ietvaros.\n\nREĢISTRĒJIES LEKCIJAI
X-ALT-DESC;FMTTYPE=text/html:<p><a href="https://www.lu.lv/studijas/studiju-programmas/magistra-limena-studijas/datorzinatnes/" target="_blank"><strong>MSP "Datorzinātnes"</strong></a><br /><strong>Trešdiena\, 18. marts\, 14.30–18.00</strong><br />Tēma: <strong>Zināšanu inženierija</strong><br />Lektori: prof. <strong>Kārlis Čerāns</strong>\, prof. <strong>Uldis Straujums</strong><br />Vieta: Raiņa bulvāris 19\, 3. stāvs\, pa labi\, 12. auditorija<br />Lekcija notiek studiju kursa <a href="https://www.lu.lv/studijas/studiju-celvedis/programmu-un-kursu-katalogi/kursu-katalogs/?tx_lustudycatalogue_pi1%5Baction%5D=detail&amp\;tx_lustudycatalogue_pi1%5Bcontroller%5D=Course&amp\;tx_lustudycatalogue_pi1%5Bcourse%5D=DatZM027&amp\;cHash=c38976b9fe7aae24f2b17f9be2633b08" target="_blank">“Zināšanu inženierija”</a> ietvaros.</p>\n<hr />\n<p><a href="https://forms.office.com/pages/responsepage.aspx?id=RE6EJpfSaECjKUUc6GIx8SDoiE7CMVZLihjv6MH77GRUREZHOTZEMkRNUk8xV1ZKMzhBUURZREkyUi4u&amp\;route=shorturl" target="_blank" rel="noreferrer"><strong>REĢISTRĒJIES LEKCIJAI</strong></a></p>
LOCATION:Raiņa bulvāris 19\, 3. stāvs\, pa labi\, 12. auditorija
END:VEVENT

END:VCALENDAR