BEGIN:VCALENDAR
VERSION:2.0
PRODID:-//TYPO3/NONSGML Calendarize//EN


BEGIN:VEVENT
UID:calendarize-vebinars-paplasinatas-meklesanas-panemieni-datubaze-ieee-xplore
DTSTAMP:20251009T132727Z

DTSTART:20251013T120000Z
DTEND:20251013T124500Z
    
SUMMARY:Vebinārs: Paplašinātās meklēšanas paņēmieni datubāzē IEEE Xplore
DESCRIPTION:Paplašinātās meklēšanas paņēmieni datubāzē IEEE Xplore (Advanced Search Techniques for IEEE Xplore)\nSeminārs palīdzēs uzlabot jūsu meklēšanas stratēģiju\, identificējot atslēgvārdus un sinonīmus\, lietojot operatorus un aizstājējzīmes\, lai iegūtu visaptverošus rezultātus.\nPIETEIKTIES\nLaiks: pirmdiena\, 13. oktobris plkst. 15.00-15.45\nVieta: virtuālā telpa Webex\nTīmekļsemināra darba valoda: angļu
X-ALT-DESC;FMTTYPE=text/html:<ul><li><span><strong>Paplašinātās meklēšanas paņēmieni datubāzē IEEE Xplore</strong> (</span><i><span>Advanced Search Techniques for IEEE Xplore</span></i><span>)</span></li></ul>\n<p>Seminārs palīdzēs uzlabot jūsu meklēšanas stratēģiju\, identificējot atslēgvārdus un sinonīmus\, lietojot operatorus un aizstājējzīmes\, lai iegūtu visaptverošus rezultātus.</p>\n<p><a href="https://ieee.webex.com/weblink/register/rcc8f876cdf81922de8c1ceb74641b1b9" target="_blank" rel="noreferrer"><strong>PIETEIKTIES</strong></a></p>\n<p><strong>Laiks</strong>: pirmdiena\, 13. oktobris plkst. 15.00-15.45</p>\n<p><strong>Vieta</strong>: virtuālā telpa Webex</p>\n<p><strong>Tīmekļsemināra darba valoda</strong>: angļu</p>
LOCATION:
END:VEVENT

END:VCALENDAR