BEGIN:VCALENDAR
VERSION:2.0
PRODID:-//TYPO3/NONSGML Calendarize//EN


BEGIN:VEVENT
UID:calendarize-the-riga-conference-2025-will-bring-together-world-leaders-in-riga-for-the-20th-time
DTSTAMP:20251003T112355Z

DTSTART;VALUE=DATE:20251009
DTEND;VALUE=DATE:20251012
    
SUMMARY:The Rīga Conference 2025 
DESCRIPTION:https://www.lu.lv/en/about-us/ul-media/news/single/t/105479/ 
X-ALT-DESC;FMTTYPE=text/html:<p><a href="https://www.lu.lv/en/about-us/ul-media/news/single/t/105479/">https://www.lu.lv/en/about-us/ul-media/news/single/t/105479/</a>&nbsp\;</p>
LOCATION:UL\, House of Science\, Jelgava Street 3
END:VEVENT

END:VCALENDAR