BEGIN:VCALENDAR
VERSION:2.0
PRODID:-//TYPO3/NONSGML Calendarize//EN


BEGIN:VEVENT
UID:calendarize-smi-zinatniskais-seminars-20251023
DTSTAMP:20251023T100037Z

DTSTART:20251023T100000Z
DTEND:20251023T113000Z
    
SUMMARY:1.SMI zinātniskais seminārs
DESCRIPTION:Pirmajā seminārā 23. oktobrī uzstāsies Mihails Ščepanskis ar prezentāciju "Kodolenerģijas ģenerators kosmosa misijām". Seminārā tiks prezentētas jaunākas izstrādes un virzieni radioizotopu degvielā un siltums-elektrība konvertoros.\nSemināri notiks ceturtdienās plkst.13.00-14.30 Zinātņu mājas 520. kabinetā\, kā arī MS Teams stream ar ierakstu arhīvam. Saite uz MS Teams meeting šeit:\nINM Weekly Seminar | Meeting-Join | Microsoft Teams\n\n
X-ALT-DESC;FMTTYPE=text/html:<p>Pirmajā seminārā <strong>23. oktobrī </strong>uzstāsies <strong>Mihails Ščepanskis </strong>ar prezentāciju <strong>"Kodolenerģijas ģenerators kosmosa misijām"</strong>. Seminārā tiks prezentētas jaunākas izstrādes un virzieni radioizotopu degvielā un siltums-elektrība konvertoros.</p>\n<p>Semināri notiks ceturtdienās plkst.13.00-14.30 Zinātņu mājas 520. kabinetā\, kā arī MS Teams stream ar ierakstu arhīvam. Saite uz MS Teams meeting šeit:</p>\n<p><a href="https://teams.microsoft.com/l/meetup-join/19%3ameeting_OTdkNjJkYjktNDEyNS00MWE1LTliZWYtZTVhOGRjZGNhN2Ni%40thread.v2/0?context=%7b%22Tid%22%3a%2226844e44-d297-4068-a329-451ce86231f1%22%2c%22Oid%22%3a%225e4aab21-223d-4ed6-ba23-20af20fd1aaf%22%7d">INM Weekly Seminar | Meeting-Join | Microsoft Teams</a></p>\n\n
LOCATION:LU Zinātņu māja\, 520. telpa
END:VEVENT

END:VCALENDAR