BEGIN:VCALENDAR
VERSION:2.0
PRODID:-//TYPO3/NONSGML Calendarize//EN


BEGIN:VEVENT
UID:calendarize-sekcija-stem-izglitiba-valsts-tehnologiskajai-un-digitalajai-attistibai
DTSTAMP:20260413T125509Z

DTSTART:20260416T060000Z
DTEND:20260416T093000Z
    
SUMMARY:Sekcija "STEM izglītība valsts tehnoloģiskajai un digitālajai attīstībai"
DESCRIPTION:Sekcijas aptvertais apakštēmu loks ir starpdisciplinārs\, akcentējot šī brīža STEM izglītības aktualitātes:\n  - inovācijas STEM priekšmetu (fizika\, ķīmija\, bioloģija\, matemātika\, inženierzinātnes\, datorika\, ģeogrāfija\, dabaszinības) mācīšanas pieejās no pamatizglītības līdz augstākajai izglītībai\,  - skolēnu un studentu mācību sasniegumu vērtēšana un vērtējumu analīze STEM mācību priekšmetos\,   - STEM priekšmetu skolotāju profesionālā pilnveide\,  - atbalsts skolēniem un studentiem STEM priekšmetu apguvē\,  - digitālo tehnoloģiju (t.sk. mākslīgā intelekta risinājumu) izmantošana STEM priekšmetu apguvē\,  - izglītība vadības pieejas STEM mācību priekšmetu inovāciju ilgtspējīgai ieviešanai.\nSekcijā ar uzstāšanos vai kā klausītāji aicināti piedalīties visi tie\, kuru interešu lokā ir ar STEM priekšmetu mācīšanu un mācīšanos saistīti jautājumi visplašākajā tvērumā - sākot no sākumskolas līdz augstskolai.\nDarba valoda: AngļuFormāts: klātieneStenda referāti: Jā\nhttps://conferences.lu.lv/event/839/ 
X-ALT-DESC;FMTTYPE=text/html:<p>Sekcijas aptvertais apakštēmu loks ir starpdisciplinārs\, akcentējot šī brīža STEM izglītības aktualitātes:</p>\n<p>&nbsp\; - inovācijas STEM priekšmetu (fizika\, ķīmija\, bioloģija\, matemātika\, inženierzinātnes\, datorika\, ģeogrāfija\, dabaszinības) mācīšanas pieejās no pamatizglītības līdz augstākajai izglītībai\,<br />&nbsp\; - skolēnu un studentu mācību sasniegumu vērtēšana un vērtējumu analīze STEM mācību priekšmetos\,&nbsp\;<br />&nbsp\; - STEM priekšmetu skolotāju profesionālā pilnveide\,<br />&nbsp\; - atbalsts skolēniem un studentiem STEM priekšmetu apguvē\,<br />&nbsp\; - digitālo tehnoloģiju (t.sk. mākslīgā intelekta risinājumu) izmantošana STEM priekšmetu apguvē\,<br />&nbsp\; - izglītība vadības pieejas STEM mācību priekšmetu inovāciju ilgtspējīgai ieviešanai.</p>\n<p>Sekcijā ar uzstāšanos vai kā klausītāji aicināti piedalīties visi tie\, kuru interešu lokā ir ar STEM priekšmetu mācīšanu un mācīšanos saistīti jautājumi visplašākajā tvērumā - sākot no sākumskolas līdz augstskolai.</p>\n<p><strong>Darba valoda:</strong> Angļu<br /><strong>Formāts:</strong> klātiene<br /><strong>Stenda referāti:</strong> Jā</p>\n<p><a href="https://conferences.lu.lv/event/839/">https://conferences.lu.lv/event/839/</a>&nbsp\;</p>
LOCATION:LU Zinātņu māja\, 401. auditorija
END:VEVENT

END:VCALENDAR