BEGIN:VCALENDAR
VERSION:2.0
PRODID:-//TYPO3/NONSGML Calendarize//EN


BEGIN:VEVENT
UID:calendarize-sekcija-hidrosocialas-pieejas-udenu-petnieciba-un-parvaldiba
DTSTAMP:20260413T125155Z

DTSTART:20260415T080000Z
DTEND:20260415T113000Z
    
SUMMARY:Sekcija "Hidrosociālās pieejas ūdeņu pētniecībā un pārvaldībā"
DESCRIPTION:Balstoties Džeimija Lintona izstrādātajā hidrosociālā cikla koncepcijā\, ūdeņi tiek aplūkoti kā savstarpēji saistītu attiecību kopums\, kurā līdzās ūdens fiziskajām īpašībām un ekoloģiskajiem procesiem nozīmīga loma ir arī dzīvās dabas\, tehnoloģiju\, varas struktūru\, kultūras nozīmju un pārvaldības prakšu mijiedarbei. Šāds skatījums ļauj izprast\, kā ūdeņi veidojas sociālos un politiskos kontekstos\, kuros sabiedrības rīcība\, zināšanas un institucionālie lēmumi ir cieši savīti ar biofizikālajiem procesiem. Sekcija aicina uz starpdisciplināru dialogu starp sociālajām un humanitārajām zinātnēm\, dabaszinātnēm\, plānošanu un politikas praksi.\nAicinām iesniegt ziņojumus tēmās\, tostarp (bet ne tikai):\nūdeņi kā infrastruktūras\, tehnoloģiju un pārvaldības objekti\;dabā balstītu risinājumu problemātika sociālā un politiskā skatījumā\;kultūras ekosistēmu pakalpojumi ūdeņu ainavās\;ūdeņi kā kultūras atmiņas un identitātes telpa\;daudzsugu kopienas\, konflikti un līdzāspastāvēšanas prakses\;ikdienas un rekreatīvās prakses saistībā ar ūdeņiem\;ūdeņu aizsardzība\, aktīvisms\, to vēsturiskās un mūsdienu formas.\nAnotācijā (līdz 250 vārdiem) pēc nepieciešamības iespējams norādīt arī finansējuma avotu. Lūdzam anotāciju veidot bez atsaucēm\, tās pievienojot tikai izņēmuma gadījumos.\nFormāts: klātieneDarba valoda: latviešuStenda referāti: jāIesniegtās tēzes var tikt novirzītas uz stenda referātu sadaļu\, saistībā ar ierobežotu mutisko prezentāciju laiku.\nhttps://conferences.lu.lv/event/855/ 
X-ALT-DESC;FMTTYPE=text/html:<p class="text-justify">Balstoties Džeimija Lintona izstrādātajā hidrosociālā cikla koncepcijā\, ūdeņi tiek aplūkoti kā savstarpēji saistītu attiecību kopums\, kurā līdzās ūdens fiziskajām īpašībām un ekoloģiskajiem procesiem nozīmīga loma ir arī dzīvās dabas\, tehnoloģiju\, varas struktūru\, kultūras nozīmju un pārvaldības prakšu mijiedarbei. Šāds skatījums ļauj izprast\, kā ūdeņi veidojas sociālos un politiskos kontekstos\, kuros sabiedrības rīcība\, zināšanas un institucionālie lēmumi ir cieši savīti ar biofizikālajiem procesiem. Sekcija aicina uz starpdisciplināru dialogu starp sociālajām un humanitārajām zinātnēm\, dabaszinātnēm\, plānošanu un politikas praksi.</p>\n<p>Aicinām iesniegt ziņojumus tēmās\, tostarp (bet ne tikai):</p>\n<ul><li><span>ūdeņi kā infrastruktūras\, tehnoloģiju un pārvaldības objekti\;</span></li><li><span>dabā balstītu risinājumu problemātika sociālā un politiskā skatījumā\;</span></li><li><span>kultūras ekosistēmu pakalpojumi ūdeņu ainavās\;</span></li><li><span>ūdeņi kā kultūras atmiņas un identitātes telpa\;</span></li><li><span>daudzsugu kopienas\, konflikti un līdzāspastāvēšanas prakses\;</span></li><li><span>ikdienas un rekreatīvās prakses saistībā ar ūdeņiem\;</span></li><li><span>ūdeņu aizsardzība\, aktīvisms\, to vēsturiskās un mūsdienu formas.</span></li></ul>\n<p>Anotācijā (līdz 250 vārdiem) pēc nepieciešamības iespējams norādīt arī finansējuma avotu. Lūdzam anotāciju veidot bez atsaucēm\, tās pievienojot tikai izņēmuma gadījumos.</p>\n<p><strong>Formāts</strong>:&nbsp\;klātiene<br /><strong>Darba valoda</strong>:&nbsp\;latviešu<br /><strong>Stenda referāti</strong>: jā<br /><br />Iesniegtās tēzes var tikt novirzītas uz stenda referātu sadaļu\, saistībā ar ierobežotu mutisko prezentāciju laiku.</p>\n<p><a href="https://conferences.lu.lv/event/855/">https://conferences.lu.lv/event/855/</a>&nbsp\;</p>
LOCATION:LU Zinātņu māja\, 206. auditorija 
END:VEVENT

END:VCALENDAR