BEGIN:VCALENDAR
VERSION:2.0
PRODID:-//TYPO3/NONSGML Calendarize//EN


BEGIN:VEVENT
UID:calendarize-sekcija-digitalie-dvini-un-skaitliska-modelesana-tehnologijam-un-videi
DTSTAMP:20260413T124435Z

DTSTART:20260415T080000Z
DTEND:20260415T113000Z
    
SUMMARY:Sekcija "Digitālie dvīņi un skaitliskā modelēšana tehnoloģijām un videi"
DESCRIPTION:Sesija nodrošina platformu jaunāko pētījumu rezultātu un iedvesmojošu pētniecības piemēru prezentēšanai\, kas iegūti\, izmantojot skaitlisko modelēšanu\, augstas veiktspējas skaitļošanu\, digitālos dvīņus un uz datiem balstītas simulācijas pieejas.\nSesija ir atvērta gan pārbaudītiem pētījumu rezultātiem\, gan uz nākotni vērstām idejām\, kuros skaitliskajai modelēšanai un HPC ir būtiska loma tehnoloģiju\, vides un digitālajā attīstībā. Digitālie dvīņi tiek aplūkoti plašā nozīmē — kā augstas precizitātes skaitlisko modeļu evolūcija uz datu vadītām un lēmumu atbalsta sistēmām.\nSesijas darba valodas ir latviešu un angļu.\nSesijas tematika ietver (bet neaprobežojas ar) šādām jomām:• magnetohidrodinamika\;• kristālu audzēšana\;• multifizikālie procesi\;• augstas veiktspējas skaitļošana\;• digitālie dvīņi.\nDarba valoda: AngļuFormāts: klātieneStenda referāti: Jā
X-ALT-DESC;FMTTYPE=text/html:<p>Sesija nodrošina platformu jaunāko pētījumu rezultātu un iedvesmojošu pētniecības piemēru prezentēšanai\, kas iegūti\, izmantojot skaitlisko modelēšanu\, augstas veiktspējas skaitļošanu\, digitālos dvīņus un uz datiem balstītas simulācijas pieejas.</p>\n<p>Sesija ir atvērta gan pārbaudītiem pētījumu rezultātiem\, gan uz nākotni vērstām idejām\, kuros skaitliskajai modelēšanai un HPC ir būtiska loma tehnoloģiju\, vides un digitālajā attīstībā. Digitālie dvīņi tiek aplūkoti plašā nozīmē — kā augstas precizitātes skaitlisko modeļu evolūcija uz datu vadītām un lēmumu atbalsta sistēmām.</p>\n<p>Sesijas darba valodas ir latviešu un angļu.</p>\n<p>Sesijas tematika ietver (bet neaprobežojas ar) šādām jomām:<br />• magnetohidrodinamika\;<br />• kristālu audzēšana\;<br />• multifizikālie procesi\;<br />• augstas veiktspējas skaitļošana\;<br />• digitālie dvīņi.</p>\n<p><strong>Darba valoda:</strong> Angļu<br /><strong>Formāts:</strong> klātiene<br /><strong>Stenda referāti:</strong> Jā</p>
LOCATION:LU Zinātņu māja\, 201. auditorija
END:VEVENT

END:VCALENDAR