BEGIN:VCALENDAR
VERSION:2.0
PRODID:-//TYPO3/NONSGML Calendarize//EN


BEGIN:VEVENT
UID:calendarize-scientific-presentations
DTSTAMP:20260305T200712Z

DTSTART:20260324T083000Z
DTEND:20260324T101000Z
    
SUMMARY:Atvērtā lekcija: Scientific presentations
DESCRIPTION:MSP "Fizika"Otrdiena\, 24. marts\, 10.30–12.10Tēma: Scientific presentationsLektore: Dr. phys.\, vadošā pētniece Inga SaknīteVieta: LU Zinātņu māja\, Jelgavas iela 3\, 204. auditorijaLekcija notiek studiju kursa “Aktualitātes fizikā un astronomijā” ietvaros.Lekcija angļu valodā.\n\nREĢISTRĒJIES LEKCIJAI
X-ALT-DESC;FMTTYPE=text/html:<p><a href="https://www.lu.lv/studijas/studiju-programmas/magistra-limena-studijas/fizika-en/" target="_blank"><strong>MSP "Fizika"</strong></a><br /><strong>Otrdiena\, 24. marts\, 10.30–12.10</strong><br />Tēma: <strong>Scientific presentations</strong><br />Lektore: Dr. phys.\, vadošā pētniece <strong>Inga Saknīte</strong><br />Vieta: LU Zinātņu māja\, Jelgavas iela 3\, 204. auditorija<br />Lekcija notiek studiju kursa <a href="https://www.lu.lv/studijas/studiju-celvedis/programmu-un-kursu-katalogi/kursu-katalogs/?tx_lustudycatalogue_pi1%5Baction%5D=detail&amp\;tx_lustudycatalogue_pi1%5Bcontroller%5D=Course&amp\;tx_lustudycatalogue_pi1%5Bcourse%5D=FiziM021&amp\;cHash=bceee76b2e2b100c6ffe6bf210360b41" target="_blank">“Aktualitātes fizikā un astronomijā” </a>ietvaros.<br />Lekcija angļu valodā.</p>\n<hr />\n<p><a href="https://forms.office.com/pages/responsepage.aspx?id=RE6EJpfSaECjKUUc6GIx8SDoiE7CMVZLihjv6MH77GRUREZHOTZEMkRNUk8xV1ZKMzhBUURZREkyUi4u&amp\;route=shorturl" target="_blank" rel="noreferrer"><strong>REĢISTRĒJIES LEKCIJAI</strong></a></p>
LOCATION:LU Zinātņu māja\, Jelgavas iela 3\, 204. auditorija
END:VEVENT

END:VCALENDAR