BEGIN:VCALENDAR
VERSION:2.0
PRODID:-//TYPO3/NONSGML Calendarize//EN


BEGIN:VEVENT
UID:calendarize-scientific-models-and-modeling-in-science-education
DTSTAMP:20260305T200840Z

DTSTART:20260326T080000Z
DTEND:20260326T100000Z
    
SUMMARY:Atvērtā lekcija: Scientific Models and Modeling in Science Education
DESCRIPTION:MSP "Fizika"Ceturtdiena\, 26. marts\, 10.00–12.00Tēma: Scientific Models and Modeling in Science EducationVieslektors: Prof. Mark Lattery (University of Wisconsin–Oshkosh)\, grāmatas Deep Learning in Introductory Physics autors\, Modeling Teachers International prezidentsVieta: LU Zinātņu māja\, Jelgavas iela 3\, 202. auditorijaSeminārs notiek studiju kursa “Aktualitātes fizikā un astronomijā” ietvaros.Lekcija angļu valodā.\n\nREĢISTRĒJIES LEKCIJAI\n26. martā Latvijas Universitātes (LU) Eksakto zinātņu un tehnoloģiju fakultātē (EZTF) notiks starptautisks seminārs\, kuru vadīs profesors Marks Latterijs (Mark Lattery) (University of Wisconsin–Oshkosh\, ASV). Pasākumā aicināti piedalīties fizikas skolotāji\, studenti\, akadēmiskais personāls un ikviens interesents.\nMūsdienu fizikas izglītība balstīta pieejā\, ka skolēnu mācīšanās kļūst efektīvāka\, ja tā atspoguļo zinātnisko praksi\, kuras centrā ir modelēšanas process. Semināra laikā tiks meklētas atbildes uz būtiskiem jautājumiem: kas ir zinātniskais modelis\, un kā zinātniskā modelēšana tiek īstenota mācību procesā?\nDalībniekiem būs iespēja iepazīties ar zinātnisko modeļu un modelēšanas nozīmi dabaszinātnēs\, kā arī ar modelēšanas teoriju un tās praktisko pielietojumu izglītībā. Tiks aplūkota Modeling Method of Instruction un Theory of Analogies\, izmantojot piemērus no vidusskolas fizikas kursa.\nSemināru vadīs profesors Marks Laterijs (Mark Lattery) – grāmatas "Deep Learning in Introductory Physics" autors un Modeling Teachers International prezidents.\nSeminārs notiks angļu valodā. Vietu skaits ir ierobežots.\nPasākumu organizē:LU EZTF Fizikas nodaļas Fizikas izglītības pētniecības grupa\nSaziņai: jelena.kosmaca@lu.lv \n\nModeling Teachers International ir starptautiska organizācija\, kas apvieno skolotājus\, pasniedzējus un izglītības pētniekus\, kuri interesējas par modelēšanas pieejas izmantošanu dabaszinātņu (īpaši fizikas) mācīšanā.\nTās galvenais mērķis ir uzlabot dabaszinātņu izglītību\, veicinot tā saukto modelēšanas pedagoģiju – pieeju\, kurā skolēni ne tikai apgūst faktus\, bet aktīvi veido\, pārbauda un pielieto zinātniskos modeļus\, līdzīgi kā to dara zinātnieki.
X-ALT-DESC;FMTTYPE=text/html:<p><a href="https://www.lu.lv/studijas/studiju-programmas/magistra-limena-studijas/fizika-en/" target="_blank"><strong>MSP "Fizika"</strong></a><br /><strong>Ceturtdiena\, 26. marts\, 10.00–12.00</strong><br />Tēma: <strong>Scientific Models and Modeling in Science Education</strong><br />Vieslektors: Prof. <strong>Mark Lattery</strong> (University of Wisconsin–Oshkosh)\, grāmatas Deep Learning in Introductory Physics autors\, Modeling Teachers International prezidents<br />Vieta: LU Zinātņu māja\, Jelgavas iela 3\, 202. auditorija<br />Seminārs notiek studiju kursa <a href="https://www.lu.lv/studijas/studiju-celvedis/programmu-un-kursu-katalogi/kursu-katalogs/?tx_lustudycatalogue_pi1%5Baction%5D=detail&amp\;tx_lustudycatalogue_pi1%5Bcontroller%5D=Course&amp\;tx_lustudycatalogue_pi1%5Bcourse%5D=FiziM021&amp\;cHash=bceee76b2e2b100c6ffe6bf210360b41" target="_blank">“Aktualitātes fizikā un astronomijā”</a> ietvaros.<br />Lekcija angļu valodā.</p>\n<hr />\n<p><a href="https://forms.office.com/pages/responsepage.aspx?id=RE6EJpfSaECjKUUc6GIx8SDoiE7CMVZLihjv6MH77GRUREZHOTZEMkRNUk8xV1ZKMzhBUURZREkyUi4u&amp\;route=shorturl" target="_blank" rel="noreferrer"><strong>REĢISTRĒJIES LEKCIJAI</strong></a></p>\n<p><strong>26. martā Latvijas Universitātes (LU) Eksakto zinātņu un tehnoloģiju fakultātē (EZTF) notiks starptautisks seminārs\, kuru vadīs profesors Marks Latterijs (Mark Lattery) (University of Wisconsin–Oshkosh\, ASV). Pasākumā aicināti piedalīties fizikas skolotāji\, studenti\, akadēmiskais personāls un ikviens interesents.</strong></p>\n<p>Mūsdienu fizikas izglītība balstīta pieejā\, ka skolēnu mācīšanās kļūst efektīvāka\, ja tā atspoguļo zinātnisko praksi\, kuras centrā ir modelēšanas process. Semināra laikā tiks meklētas atbildes uz būtiskiem jautājumiem: kas ir zinātniskais modelis\, un kā zinātniskā modelēšana tiek īstenota mācību procesā?</p>\n<p>Dalībniekiem būs iespēja iepazīties ar zinātnisko modeļu un modelēšanas nozīmi dabaszinātnēs\, kā arī ar modelēšanas teoriju un tās praktisko pielietojumu izglītībā. Tiks aplūkota Modeling Method of Instruction un Theory of Analogies\, izmantojot piemērus no vidusskolas fizikas kursa.</p>\n<p>Semināru vadīs profesors Marks Laterijs (<i>Mark Lattery</i>) – grāmatas "Deep Learning in Introductory Physics" autors un <i>Modeling Teachers International</i> prezidents.</p>\n<p>Seminārs notiks angļu valodā. Vietu skaits ir ierobežots.</p>\n<p>Pasākumu organizē:<br />LU EZTF Fizikas nodaļas Fizikas izglītības pētniecības grupa</p>\n<p>Saziņai: <a href="mailto:jelena.kosmaca@lu.lv">jelena.kosmaca@lu.lv</a>&nbsp\;</p>\n<hr />\n<p><i>Modeling Teachers International</i> ir starptautiska organizācija\, kas apvieno skolotājus\, pasniedzējus un izglītības pētniekus\, kuri interesējas par modelēšanas pieejas izmantošanu dabaszinātņu (īpaši fizikas) mācīšanā.</p>\n<p>Tās galvenais mērķis ir uzlabot dabaszinātņu izglītību\, veicinot tā saukto modelēšanas pedagoģiju – pieeju\, kurā skolēni ne tikai apgūst faktus\, bet aktīvi veido\, pārbauda un pielieto zinātniskos modeļus\, līdzīgi kā to dara zinātnieki.</p>
LOCATION:LU Zinātņu māja\, Jelgavas iela 3\, 202. auditorija
END:VEVENT

END:VCALENDAR