BEGIN:VCALENDAR
VERSION:2.0
PRODID:-//TYPO3/NONSGML Calendarize//EN


BEGIN:VEVENT
UID:calendarize-mmu-1-nodarbiba-1-1
DTSTAMP:20250918T142732Z

DTSTART:20251018T070000Z
DTEND:20251018T120000Z
    
SUMMARY:MMU 1. nodarbība
DESCRIPTION:Vairāk informācijas: https://www.nms.lu.lv/nodarbibas/maza-matematikas-universitate/ 
X-ALT-DESC;FMTTYPE=text/html:<p>Vairāk informācijas: <a href="https://www.nms.lu.lv/nodarbibas/maza-matematikas-universitate/">https://www.nms.lu.lv/nodarbibas/maza-matematikas-universitate/</a>&nbsp\;</p>
LOCATION:LU Zinātņu māja\, Jelgavas iela 3
END:VEVENT

END:VCALENDAR