BEGIN:VCALENDAR
VERSION:2.0
PRODID:-//TYPO3/NONSGML Calendarize//EN


BEGIN:VEVENT
UID:calendarize-maksligais-intelekts-dati-un-sabiedribas-uzticesanas-tehnologijam-digitalaja-valsti
DTSTAMP:20260413T124912Z

DTSTART:20260415T060000Z
DTEND:20260415T093000Z
    
SUMMARY:Sekcija "Mākslīgais intelekts\, dati un sabiedrības uzticēšanās tehnoloģijām digitālajā valstī"
DESCRIPTION:Tajā tiks aplūkoti būtiski jautājumi par algoritmu caurspīdīgumu un atbildību\, datu kvalitāti\, ētiskajiem un drošības aspektiem\, kā arī personas datu aizsardzību un uzticēšanās veidošanu digitālajos publiskajos pakalpojumos. Sekcija veicina starpdisciplināru diskusiju starp tehnoloģiju izstrādātājiem\, politikas veidotājiem un pētniekiem\, īpašu uzmanību pievēršot atbildīgai MI izmantošanai\, efektīvam regulējumam un ilgtspējīgai digitālās valsts attīstībai.\nDarba valoda: AngļuFormāts: HibrīdaStenda referāti: Jā\nhttps://conferences.lu.lv/event/864/ 
X-ALT-DESC;FMTTYPE=text/html:<p>Tajā tiks aplūkoti būtiski jautājumi par algoritmu caurspīdīgumu un atbildību\, datu kvalitāti\, ētiskajiem un drošības aspektiem\, kā arī personas datu aizsardzību un uzticēšanās veidošanu digitālajos publiskajos pakalpojumos. Sekcija veicina starpdisciplināru diskusiju starp tehnoloģiju izstrādātājiem\, politikas veidotājiem un pētniekiem\, īpašu uzmanību pievēršot atbildīgai MI izmantošanai\, efektīvam regulējumam un ilgtspējīgai digitālās valsts attīstībai.</p>\n<p><strong>Darba valoda:</strong> Angļu<br /><strong>Formāts:</strong> Hibrīda<br /><strong>Stenda referāti:</strong> Jā</p>\n<p><a href="https://conferences.lu.lv/event/864/">https://conferences.lu.lv/event/864/</a>&nbsp\;</p>
LOCATION:LU Zinātņu māja\, 104. auditorija
END:VEVENT

END:VCALENDAR