BEGIN:VCALENDAR
VERSION:2.0
PRODID:-//TYPO3/NONSGML Calendarize//EN


BEGIN:VEVENT
UID:calendarize-lu-karjeras-centra-seminars-radosums-ta-nozime-karjeras-veidosana
DTSTAMP:20260203T111142Z

DTSTART:20260407T153000Z
DTEND:20260407T173000Z
    
SUMMARY:LU Karjeras centra seminārs “Radošums. Tā nozīme karjeras veidošanā.”
DESCRIPTION:
X-ALT-DESC;FMTTYPE=text/html:
LOCATION:Tiešsaistē
END:VEVENT

END:VCALENDAR