BEGIN:VCALENDAR
VERSION:2.0
PRODID:-//TYPO3/NONSGML Calendarize//EN


BEGIN:VEVENT
UID:calendarize-lu-karjeras-centra-seminars-konflikti-to-risinasana-1
DTSTAMP:20260203T123811Z

DTSTART:20260506T131500Z
DTEND:20260506T145500Z
    
SUMMARY:LU Karjeras centra seminārs “Konflikti. To risināšana.”
DESCRIPTION:
X-ALT-DESC;FMTTYPE=text/html:
LOCATION:Aspazijas bulvāris 5\, 508. auditorija.
END:VEVENT

END:VCALENDAR