BEGIN:VCALENDAR
VERSION:2.0
PRODID:-//TYPO3/NONSGML Calendarize//EN


BEGIN:VEVENT
UID:calendarize-lu-karjeras-centra-seminars-komunikacijas-prasmes
DTSTAMP:20260203T111436Z

DTSTART:20260422T131500Z
DTEND:20260422T145500Z
    
SUMMARY:LU Karjeras centra seminārs "Komunikācijas prasmes”
DESCRIPTION:
X-ALT-DESC;FMTTYPE=text/html:
LOCATION:Aspazijas bulvāris 5\, 508. auditorija
END:VEVENT

END:VCALENDAR