BEGIN:VCALENDAR
VERSION:2.0
PRODID:-//TYPO3/NONSGML Calendarize//EN


BEGIN:VEVENT
UID:calendarize-lu-karjeras-centra-seminars-gatavosanas-darba-intervijai
DTSTAMP:20260203T110732Z

DTSTART:20260401T131500Z
DTEND:20260401T145500Z
    
SUMMARY:LU Karjeras centra seminārs “Gatavošanās darba intervijai”
DESCRIPTION:
X-ALT-DESC;FMTTYPE=text/html:
LOCATION:Aspazijas bulvāris 5\, 508. auditorija.
END:VEVENT

END:VCALENDAR