BEGIN:VCALENDAR
VERSION:2.0
PRODID:-//TYPO3/NONSGML Calendarize//EN


BEGIN:VEVENT
UID:calendarize-lu-karjeras-centra-seminars-cv-darbnica-2
DTSTAMP:20260203T111329Z

DTSTART:20260414T153000Z
DTEND:20260414T173000Z
    
SUMMARY:LU Karjeras centra seminārs "CV darbnīca"
DESCRIPTION:
X-ALT-DESC;FMTTYPE=text/html:
LOCATION:Tiešsaistē
END:VEVENT

END:VCALENDAR