BEGIN:VCALENDAR
VERSION:2.0
PRODID:-//TYPO3/NONSGML Calendarize//EN


BEGIN:VEVENT
UID:calendarize-lu-doktorantu-lasijumi-gatis-ezerkalns
DTSTAMP:20260420T092909Z

DTSTART:20260513T120000Z
DTEND:20260513T130000Z
    
SUMMARY:LU doktorantu lasījumi: Gatis Ezerkalns
DESCRIPTION:Pasākums iecerēts kā turpinājums iespējai ielūkoties procesos\, kas raksturo LU pētnieku\, LU darbinieku un LU radošās personības. Par to\, kā iespējams apvienot gan studijas\, gan darbu\, gan arī atrast laiku radošumam. Tikšanās iecerēta kā saruna\, kurā dalīšanās ar pieredzi ir iespēja arī pasākuma apmeklētājiem sajusties kā daļai no dinamiskās LU saimes.\nCikla otrā pasākuma viesis Gatis Ezerkalns ir aktīvs klasiskās filoloģijas pētnieks un docētājs LU Humanitārajā fakultātē. Gatis aizstāvējis promocijas darbu "Maģijas spēki un zīmes antīkās senatnes tekstos" un šogad ieguvis zinātnisko doktora grādu humanitārajās un mākslas zinātnēs.\nNo literārajiem darbiem 2019. gadā publicēts romāns "Ragana manā skapī"\, kas balstās autora interesē par latviešu folkloru un mitoloģiju. Savukārt 2025. gadā stāstu krājumā "Gājēji" publicēto stāstu "Vismīļākā rotaļlieta" un "Mākoņkrāvējs" darbība raksturo fantāzijas un realitātes robežu nojaukšana\, tādā veidā radot jaunu pasauli\, kas ir vienota un daudzslāņaina.\nAicinām pievienoties ikvienu interesentu!
X-ALT-DESC;FMTTYPE=text/html:<p>Pasākums iecerēts kā turpinājums iespējai ielūkoties procesos\, kas raksturo LU pētnieku\, LU darbinieku un LU radošās personības. Par to\, kā iespējams apvienot gan studijas\, gan darbu\, gan arī atrast laiku radošumam. Tikšanās iecerēta kā saruna\, kurā dalīšanās ar pieredzi ir iespēja arī pasākuma apmeklētājiem sajusties kā daļai no dinamiskās LU saimes.</p>\n<p>Cikla otrā pasākuma viesis Gatis Ezerkalns ir aktīvs klasiskās filoloģijas pētnieks un docētājs LU Humanitārajā fakultātē. Gatis aizstāvējis promocijas darbu "Maģijas spēki un zīmes antīkās senatnes tekstos" un šogad ieguvis zinātnisko doktora grādu humanitārajās un mākslas zinātnēs.</p>\n<p>No literārajiem darbiem 2019. gadā publicēts romāns "Ragana manā skapī"\, kas balstās autora interesē par latviešu folkloru un mitoloģiju. Savukārt 2025. gadā stāstu krājumā "Gājēji" publicēto stāstu "Vismīļākā rotaļlieta" un "Mākoņkrāvējs" darbība raksturo fantāzijas un realitātes robežu nojaukšana\, tādā veidā radot jaunu pasauli\, kas ir vienota un daudzslāņaina.</p>\n<p>Aicinām pievienoties ikvienu interesentu!</p>
LOCATION:LU Zinātņu māja\, Jelgavas iela 3\, 2. stāvs\, LU bibliotēka
END:VEVENT

END:VCALENDAR