BEGIN:VCALENDAR
VERSION:2.0
PRODID:-//TYPO3/NONSGML Calendarize//EN


BEGIN:VEVENT
UID:calendarize-lielo-datu-tehnologijas
DTSTAMP:20260305T201104Z

DTSTART:20260327T143000Z
DTEND:20260327T174500Z
    
SUMMARY:Atvērtā lekcija: Lielo datu tehnoloģijas
DESCRIPTION:MSP "Datorzinātnes"Piektdiena\, 27. marts\, 16.30–19.45Tēma: Lielo datu tehnoloģijasLektori: prof. Ģirts Karnītis\, asoc. prof. Uldis BojārsVieta: Raiņa bulvāris 19\, 3. stāvs\, pa labi\, 12. auditorijaLekcija notiek studiju kursa “Lielo datu tehnoloģijas” ietvaros.\n\nREĢISTRĒJIES LEKCIJAI
X-ALT-DESC;FMTTYPE=text/html:<p><a href="https://www.lu.lv/studijas/studiju-programmas/magistra-limena-studijas/datorzinatnes/" target="_blank"><strong>MSP "Datorzinātnes"</strong></a><br /><strong>Piektdiena\, 27. marts\, 16.30–19.45</strong><br />Tēma: <strong>Lielo datu tehnoloģijas</strong><br />Lektori: prof. <strong>Ģirts Karnītis</strong>\, asoc. prof.<strong> Uldis Bojārs</strong><br />Vieta: Raiņa bulvāris 19\, 3. stāvs\, pa labi\, 12. auditorija<br />Lekcija notiek studiju kursa <a href="https://www.lu.lv/studijas/studiju-celvedis/programmu-un-kursu-katalogi/kursu-katalogs/?tx_lustudycatalogue_pi1%5Baction%5D=detail&amp\;tx_lustudycatalogue_pi1%5Bcontroller%5D=Course&amp\;tx_lustudycatalogue_pi1%5Bcourse%5D=DatZM006&amp\;cHash=61482d59e98ab2147e740746391378de" target="_blank">“Lielo datu tehnoloģijas”</a> ietvaros.</p>\n<hr />\n<p><a href="https://forms.office.com/pages/responsepage.aspx?id=RE6EJpfSaECjKUUc6GIx8SDoiE7CMVZLihjv6MH77GRUREZHOTZEMkRNUk8xV1ZKMzhBUURZREkyUi4u&amp\;route=shorturl" target="_blank" rel="noreferrer"><strong>REĢISTRĒJIES LEKCIJAI</strong></a></p>
LOCATION:Raiņa bulvāris 19\, 3. stāvs\, pa labi\, 12. auditorija
END:VEVENT

END:VCALENDAR