BEGIN:VCALENDAR
VERSION:2.0
PRODID:-//TYPO3/NONSGML Calendarize//EN


BEGIN:VEVENT
UID:calendarize-latvijas-universitates-izglitibas-inovaciju-forums-lu-edu-2026-scenariji-izglitibas-sistemas-attistibai
DTSTAMP:20260422T145840Z

DTSTART:20260429T070000Z
DTEND:20260429T133000Z
    
SUMMARY:Latvijas Universitātes izglītības inovāciju forums LU-EDU-2026 “Scenāriji izglītības sistēmas attīstībai"
DESCRIPTION:Pirmais forums norisināsies 29. aprīlī no plkst. 10.00 līdz 16.30 LU Lielajā aulā Raiņa bulvārī 19 Rīgā. Šī gada foruma tēma ir “Scenāriji izglītības sistēmas attīstībai”. \nPasākumā Latvijas un ārvalstu eksperti un viedokļu līderi diskutēs par dažādu attīstības scenāriju ieguvumiem un izaicinājumiem trīs tēmās: \n“Pārmaiņas izglītības sistēmas arhitektūrā — ceļā uz personalizētiem risinājumiem"\;"Starpdisciplinārā mācīšanās — kompetences ieguvums vai zaudējums?"\;“Izglītības tehnoloģijas un mācīšanās — kā tās izmantot gudri?"\, kas notiks sadarbībā ar UNESCO Latvijas Nacionālo komisiju. \nDiskusijās kopā ar LU ekspertiem piedalīsies vadošie izglītības\, inovāciju un pētniecības eksperti no vairākām starptautiski atzītām institūcijām\, pārstāvot gan akadēmisko vidi\, gan politikas un inovāciju veidošanu.  \nForumā aicināti piedalīties izglītības jomas profesionāļi\, izglītības politikas veidotāji un īstenotāji\, kā arī visi interesenti\, kuriem rūp norises izglītības sistēmā. Foruma darba valodas būs latviešu un angļu\, tiks nodrošināts sinhronais tulkojums. Dalība pasākumā ir bez maksas. \nREĢISTRĒŠANĀS
X-ALT-DESC;FMTTYPE=text/html:<p><strong>Pirmais forums norisināsies 29. aprīlī no plkst. 10.00 līdz 16.30 LU Lielajā aulā Raiņa bulvārī 19 Rīgā. Šī gada foruma tēma ir “Scenāriji izglītības sistēmas attīstībai”.</strong>&nbsp\;</p>\n<p>Pasākumā Latvijas un ārvalstu eksperti un viedokļu līderi diskutēs par dažādu attīstības scenāriju ieguvumiem un izaicinājumiem trīs tēmās:&nbsp\;</p>\n<ul><li><span>“Pārmaiņas izglītības sistēmas arhitektūrā — ceļā uz personalizētiem risinājumiem"\;</span></li><li><span>"Starpdisciplinārā mācīšanās — kompetences ieguvums vai zaudējums?"\;</span></li><li><span>“Izglītības tehnoloģijas un mācīšanās — kā tās izmantot gudri?"\, kas notiks sadarbībā ar UNESCO Latvijas Nacionālo komisiju.&nbsp\;</span></li></ul>\n<p>Diskusijās kopā ar LU ekspertiem piedalīsies vadošie izglītības\, inovāciju un pētniecības eksperti no vairākām starptautiski atzītām institūcijām\, pārstāvot gan akadēmisko vidi\, gan politikas un inovāciju veidošanu.&nbsp\;&nbsp\;</p>\n<p>Forumā aicināti piedalīties izglītības jomas profesionāļi\, izglītības politikas veidotāji un īstenotāji\, kā arī visi interesenti\, kuriem rūp norises izglītības sistēmā. Foruma darba valodas būs latviešu un angļu\, tiks nodrošināts sinhronais tulkojums. Dalība pasākumā ir bez maksas.&nbsp\;</p>\n<p><a href="https://forms.office.com/pages/responsepage.aspx?id=RE6EJpfSaECjKUUc6GIx8UjPLSptnwZPsKGMQg1oXaRUMkZaUE0zRkZCRU9QSUwyOUNYTTRZNE1LTC4u&amp\;route=shorturl"><strong>REĢISTRĒŠANĀS</strong></a></p>
LOCATION:
END:VEVENT

END:VCALENDAR