BEGIN:VCALENDAR
VERSION:2.0
PRODID:-//TYPO3/NONSGML Calendarize//EN


BEGIN:VEVENT
UID:calendarize-klimata-parmainas-un-adaptacija-daba-balstitu-risinajumu-potencials
DTSTAMP:20260305T200559Z

DTSTART:20260320T103000Z
DTEND:20260320T120000Z
    
SUMMARY:Atvērtā lekcija: Klimata pārmaiņas un adaptācija: dabā balstītu risinājumu potenciāls
DESCRIPTION:MSP "Ģeogrāfija"Piektdiena\, 20. marts\, 12.30–14.00Tēma: Klimata pārmaiņas un adaptācija: dabā balstītu risinājumu potenciālsLektori: prof. Agrita Briede\, asoc. prof. Solvita RūsiņaVieta: LU Dabas māja\, Jelgavas iela 1\, 327. auditorijaLekcija notiek studiju kursa “Globālās pārmaiņas un adaptācija: hidroklimatiskie un bioģeogrāfiskie procesi” ietvaros.\n\nREĢISTRĒJIES LEKCIJAI
X-ALT-DESC;FMTTYPE=text/html:<p><a href="https://www.lu.lv/studijas/studiju-programmas/magistra-limena-studijas/geografija/" target="_blank"><strong>MSP "Ģeogrāfija"</strong></a><br /><strong>Piektdiena\, 20. marts\, 12.30–14.00</strong><br />Tēma: <strong>Klimata pārmaiņas un adaptācija: dabā balstītu risinājumu potenciāls</strong><br />Lektori: prof. <strong>Agrita Briede</strong>\, asoc. prof. <strong>Solvita Rūsiņa</strong><br />Vieta: LU Dabas māja\, Jelgavas iela 1\, 327. auditorija<br />Lekcija notiek studiju kursa <a href="https://www.lu.lv/studijas/studiju-celvedis/programmu-un-kursu-katalogi/kursu-katalogs/?tx_lustudycatalogue_pi1%5Baction%5D=detail&amp\;tx_lustudycatalogue_pi1%5Bcontroller%5D=Course&amp\;tx_lustudycatalogue_pi1%5Bcourse%5D=GeogM013&amp\;cHash=13e920884e4744e25904fb7c3dc9f9d9" target="_blank">“Globālās pārmaiņas un adaptācija: hidroklimatiskie un bioģeogrāfiskie procesi”</a> ietvaros.</p>\n<hr />\n<p><a href="https://forms.office.com/pages/responsepage.aspx?id=RE6EJpfSaECjKUUc6GIx8SDoiE7CMVZLihjv6MH77GRUREZHOTZEMkRNUk8xV1ZKMzhBUURZREkyUi4u&amp\;route=shorturl" target="_blank" rel="noreferrer"><strong>REĢISTRĒJIES LEKCIJAI</strong></a></p>
LOCATION:LU Dabas māja\, Jelgavas iela 1\, 327. auditorija
END:VEVENT

END:VCALENDAR